BEGIN:VCALENDAR
VERSION:2.0
PRODID:-//Praxis Bärbel Jung - ECPv6.15.20//NONSGML v1.0//EN
CALSCALE:GREGORIAN
METHOD:PUBLISH
X-WR-CALNAME:Praxis Bärbel Jung
X-ORIGINAL-URL:https://baerbeljung.de
X-WR-CALDESC:Veranstaltungen für Praxis Bärbel Jung
REFRESH-INTERVAL;VALUE=DURATION:PT1H
X-Robots-Tag:noindex
X-PUBLISHED-TTL:PT1H
BEGIN:VTIMEZONE
TZID:Europe/Berlin
BEGIN:DAYLIGHT
TZOFFSETFROM:+0100
TZOFFSETTO:+0200
TZNAME:CEST
DTSTART:20230326T010000
END:DAYLIGHT
BEGIN:STANDARD
TZOFFSETFROM:+0200
TZOFFSETTO:+0100
TZNAME:CET
DTSTART:20231029T010000
END:STANDARD
BEGIN:DAYLIGHT
TZOFFSETFROM:+0100
TZOFFSETTO:+0200
TZNAME:CEST
DTSTART:20240331T010000
END:DAYLIGHT
BEGIN:STANDARD
TZOFFSETFROM:+0200
TZOFFSETTO:+0100
TZNAME:CET
DTSTART:20241027T010000
END:STANDARD
BEGIN:DAYLIGHT
TZOFFSETFROM:+0100
TZOFFSETTO:+0200
TZNAME:CEST
DTSTART:20250330T010000
END:DAYLIGHT
BEGIN:STANDARD
TZOFFSETFROM:+0200
TZOFFSETTO:+0100
TZNAME:CET
DTSTART:20251026T010000
END:STANDARD
BEGIN:DAYLIGHT
TZOFFSETFROM:+0100
TZOFFSETTO:+0200
TZNAME:CEST
DTSTART:20260329T010000
END:DAYLIGHT
BEGIN:STANDARD
TZOFFSETFROM:+0200
TZOFFSETTO:+0100
TZNAME:CET
DTSTART:20261025T010000
END:STANDARD
END:VTIMEZONE
BEGIN:VEVENT
DTSTART;TZID=Europe/Berlin:20251206T110000
DTEND;TZID=Europe/Berlin:20251206T130000
DTSTAMP:20260420T160628
CREATED:20250127T160246Z
LAST-MODIFIED:20250127T160257Z
UID:2176-1765018800-1765026000@baerbeljung.de
SUMMARY:"Wenn die Giraffe mit dem Wolf tanzt"- die Borderline-Angehörigen-Gruppe
DESCRIPTION:
URL:https://baerbeljung.de/event/wenn-die-giraffe-mit-dem-wolf-tanzt-die-borderline-angehoerigen-gruppe-8/
LOCATION:KISS Kassel\, Deutschland
CATEGORIES:Beziehungsgestaltung,Borderline und Co.,Familienleben,Kommunikation
ATTACH;FMTTYPE=image/jpeg:https://baerbeljung.de/wp-content/uploads/2025/01/GfK-WoGi___www.2moveon.euQuelle-845x321-1.jpg
ORGANIZER;CN="BTK e.V.":MAILTO:info@borderline-kassel.de
END:VEVENT
BEGIN:VEVENT
DTSTART;VALUE=DATE:20251121
DTEND;VALUE=DATE:20251123
DTSTAMP:20260420T160628
CREATED:20250521T095906Z
LAST-MODIFIED:20250521T100730Z
UID:2197-1763683200-1763855999@baerbeljung.de
SUMMARY:Ich\, Du\, Wir und Borderline -- Symposium des ZBA e.V. Köln
DESCRIPTION:Seit Längerem besteht unsere Partnerschaft mit dem Zentrum für Borderline-Angehörige – ZBA e.V. Köln  (externer Link*): http://www.shg-borderline-angehoerige.de/seite/448063/unsere-gruppe.html \n\nAm 21. und 22. November 2025 veranstaltet das ZBA in Köln ein trialogisches Symposium mit dem Titel „Ich\, du\, wir und Borderline – Es kommt einzig darauf an\, bei sich zu beginnen.“ \n\n\n\nIn mehr als 20 Veranstaltungen (Vorträge\, Workshops\, Lesungen) geht es fachlich und kreativ um die Themen Borderline\, Angehörigkeit\, Selbstwirksamkeit und Selbstfürsorge. \n\n\n\nZum Weiterlesen (externer Link*): http://www.shg-borderline-angehoerige.de/seite/441270/pinnwand.html  \n\n\n\n* Durch Anklicken der Links werden Sie auf eine externe Internetseite weitergeleitet\, für deren Inhalte der jeweilige Seitenbetreiber verantwortlich ist.
URL:https://baerbeljung.de/event/ich-du-wir-und-borderline-symposium-des-zba-e-v-koeln/
LOCATION:VHS Studienhaus Köln\, Cäcilienstraße 35\, Köln\, Westfalen\, 50667
CATEGORIES:Borderline und Co.
ATTACH;FMTTYPE=image/jpeg:https://baerbeljung.de/wp-content/uploads/2025/05/ZBA_Symposium_Poster_std.jpg
ORGANIZER;CN="ZBA-K%C3%B6ln":MAILTO:info@zba-koeln.de
END:VEVENT
BEGIN:VEVENT
DTSTART;TZID=Europe/Berlin:20251115T103000
DTEND;TZID=Europe/Berlin:20251115T130000
DTSTAMP:20260420T160628
CREATED:20250127T151920Z
LAST-MODIFIED:20250127T152126Z
UID:2137-1763202600-1763211600@baerbeljung.de
SUMMARY:Borderline Trialog Kassel.e.V.
DESCRIPTION:
URL:https://baerbeljung.de/event/borderline-trialog-kassel-e-v-4/
LOCATION:KISS Kassel\, Deutschland
CATEGORIES:Beziehungsgestaltung,Borderline und Co.,Familienleben,Kommunikation
ATTACH;FMTTYPE=image/jpeg:https://baerbeljung.de/wp-content/uploads/2025/01/2_Eier-002-scaled.jpeg
ORGANIZER;CN="BTK e.V.":MAILTO:info@borderline-kassel.de
END:VEVENT
BEGIN:VEVENT
DTSTART;TZID=Europe/Berlin:20251101T110000
DTEND;TZID=Europe/Berlin:20251101T130000
DTSTAMP:20260420T160628
CREATED:20250127T160054Z
LAST-MODIFIED:20250127T160054Z
UID:2173-1761994800-1762002000@baerbeljung.de
SUMMARY:"Wenn die Giraffe mit dem Wolf tanzt"- die Borderline-Angehörigen-Gruppe
DESCRIPTION:
URL:https://baerbeljung.de/event/wenn-die-giraffe-mit-dem-wolf-tanzt-die-borderline-angehoerigen-gruppe-7/
LOCATION:KISS Kassel\, Deutschland
CATEGORIES:Beziehungsgestaltung,Borderline und Co.,Familienleben,Kommunikation
ATTACH;FMTTYPE=image/jpeg:https://baerbeljung.de/wp-content/uploads/2025/01/GfK-WoGi___www.2moveon.euQuelle-845x321-1.jpg
ORGANIZER;CN="BTK e.V.":MAILTO:info@borderline-kassel.de
END:VEVENT
BEGIN:VEVENT
DTSTART;TZID=Europe/Berlin:20250920T103000
DTEND;TZID=Europe/Berlin:20250920T130000
DTSTAMP:20260420T160628
CREATED:20250127T153425Z
LAST-MODIFIED:20250127T153425Z
UID:2151-1758364200-1758373200@baerbeljung.de
SUMMARY:Borderline Trialog Kassel e.V.
DESCRIPTION:
URL:https://baerbeljung.de/event/borderline-trialog-kassel-e-v-7/
LOCATION:KISS Kassel\, Deutschland
CATEGORIES:Beziehungsgestaltung,Borderline und Co.,Familienleben,Kommunikation
ATTACH;FMTTYPE=image/jpeg:https://baerbeljung.de/wp-content/uploads/2025/01/2_Eier-002-scaled.jpeg
ORGANIZER;CN="BTK e.V.":MAILTO:info@borderline-kassel.de
END:VEVENT
BEGIN:VEVENT
DTSTART;TZID=Europe/Berlin:20250906T110000
DTEND;TZID=Europe/Berlin:20250906T130000
DTSTAMP:20260420T160628
CREATED:20250127T155836Z
LAST-MODIFIED:20250127T155836Z
UID:2170-1757156400-1757163600@baerbeljung.de
SUMMARY:"Wenn die Giraffe mit dem Wolf tanzt"- die Borderline-Angehörigen-Gruppe
DESCRIPTION:
URL:https://baerbeljung.de/event/wenn-die-giraffe-mit-dem-wolf-tanzt-die-borderline-angehoerigen-gruppe-6/
LOCATION:Westfalen
CATEGORIES:Beziehungsgestaltung,Borderline und Co.,Familienleben,Kommunikation
ATTACH;FMTTYPE=image/jpeg:https://baerbeljung.de/wp-content/uploads/2025/01/GfK-WoGi___www.2moveon.euQuelle-845x321-1.jpg
ORGANIZER;CN="BTK e.V.":MAILTO:info@borderline-kassel.de
END:VEVENT
BEGIN:VEVENT
DTSTART;TZID=Europe/Berlin:20250705T110000
DTEND;TZID=Europe/Berlin:20250705T130000
DTSTAMP:20260420T160628
CREATED:20250127T155628Z
LAST-MODIFIED:20250127T155628Z
UID:2167-1751713200-1751720400@baerbeljung.de
SUMMARY:"Wenn die Giraffe mit dem Wolf tanzt"- die Borderline-Angehörigen-Gruppe
DESCRIPTION:
URL:https://baerbeljung.de/event/wenn-die-giraffe-mit-dem-wolf-tanzt-die-borderline-angehoerigen-gruppe-5/
LOCATION:KISS Kassel\, Deutschland
CATEGORIES:Beziehungsgestaltung,Borderline und Co.,Familienleben,Kommunikation
ATTACH;FMTTYPE=image/jpeg:https://baerbeljung.de/wp-content/uploads/2025/01/GfK-WoGi___www.2moveon.euQuelle-845x321-1.jpg
ORGANIZER;CN="BTK e.V.":MAILTO:info@borderline-kassel.de
END:VEVENT
BEGIN:VEVENT
DTSTART;TZID=Europe/Berlin:20250517T103000
DTEND;TZID=Europe/Berlin:20250517T130000
DTSTAMP:20260420T160628
CREATED:20250127T151643Z
LAST-MODIFIED:20250127T151643Z
UID:2134-1747477800-1747486800@baerbeljung.de
SUMMARY:Borderline Trialog Kassel e.V.
DESCRIPTION:
URL:https://baerbeljung.de/event/borderline-trialog-kassel-e-v-3/
LOCATION:KISS Kassel\, Deutschland
CATEGORIES:Beziehungsgestaltung,Borderline und Co.,Familienleben,Kommunikation
ATTACH;FMTTYPE=image/jpeg:https://baerbeljung.de/wp-content/uploads/2025/01/2_Eier-002-scaled.jpeg
ORGANIZER;CN="BTK e.V.":MAILTO:info@borderline-kassel.de
END:VEVENT
BEGIN:VEVENT
DTSTART;TZID=Europe/Berlin:20250503T110000
DTEND;TZID=Europe/Berlin:20250503T130000
DTSTAMP:20260420T160628
CREATED:20250127T155410Z
LAST-MODIFIED:20250127T155410Z
UID:2164-1746270000-1746277200@baerbeljung.de
SUMMARY:"Wenn die Giraffe mit dem Wolf tanzt"- die Borderline-Angehörigen-Gruppe
DESCRIPTION:
URL:https://baerbeljung.de/event/wenn-die-giraffe-mit-dem-wolf-tanzt-die-borderline-angehoerigen-gruppe-4/
LOCATION:KISS Kassel\, Deutschland
CATEGORIES:Beziehungsgestaltung,Borderline und Co.,Familienleben,Kommunikation
ATTACH;FMTTYPE=image/jpeg:https://baerbeljung.de/wp-content/uploads/2025/01/GfK-WoGi___www.2moveon.euQuelle-845x321-1.jpg
ORGANIZER;CN="BTK e.V.":MAILTO:info@borderline-kassel.de
END:VEVENT
BEGIN:VEVENT
DTSTART;TZID=Europe/Berlin:20250405T103000
DTEND;TZID=Europe/Berlin:20250405T130000
DTSTAMP:20260420T160628
CREATED:20250127T155156Z
LAST-MODIFIED:20250127T155156Z
UID:2161-1743849000-1743858000@baerbeljung.de
SUMMARY:"Wenn die Giraffe mit dem Wolf tanzt"- die Borderline-Angehörigen-Gruppe
DESCRIPTION:
URL:https://baerbeljung.de/event/wenn-die-giraffe-mit-dem-wolf-tanzt-die-borderline-angehoerigen-gruppe-3/
LOCATION:KISS Kassel\, Deutschland
CATEGORIES:Beziehungsgestaltung,Borderline und Co.,Familienleben,Kommunikation
ATTACH;FMTTYPE=image/jpeg:https://baerbeljung.de/wp-content/uploads/2025/01/GfK-WoGi___www.2moveon.euQuelle-845x321-1.jpg
ORGANIZER;CN="BTK e.V.":MAILTO:info@borderline-kassel.de
END:VEVENT
BEGIN:VEVENT
DTSTART;TZID=Europe/Berlin:20250315T103000
DTEND;TZID=Europe/Berlin:20250315T130000
DTSTAMP:20260420T160628
CREATED:20250127T152503Z
LAST-MODIFIED:20250127T152503Z
UID:2145-1742034600-1742043600@baerbeljung.de
SUMMARY:Borderline Trialog Kassel e.V.
DESCRIPTION:
URL:https://baerbeljung.de/event/borderline-trialog-kassel-e-v-6/
LOCATION:KISS Kassel\, Deutschland
CATEGORIES:Beziehungsgestaltung,Borderline und Co.,Familienleben,Kommunikation
ATTACH;FMTTYPE=image/jpeg:https://baerbeljung.de/wp-content/uploads/2025/01/2_Eier-002-scaled.jpeg
ORGANIZER;CN="BTK e.V.":MAILTO:info@borderline-kassel.de
END:VEVENT
BEGIN:VEVENT
DTSTART;TZID=Europe/Berlin:20250301T103000
DTEND;TZID=Europe/Berlin:20250301T130000
DTSTAMP:20260420T160628
CREATED:20250127T154917Z
LAST-MODIFIED:20250127T160542Z
UID:2158-1740825000-1740834000@baerbeljung.de
SUMMARY:“Wenn die Giraffe mit dem Wolf tanzt” — die Borderline-Angehörigen-Gruppe
DESCRIPTION:
URL:https://baerbeljung.de/event/wenn-die-giraffe-mit-dem-wolf-tanzt-die-borderline-angehoerigen-gruppe-2/
LOCATION:KISS Kassel\, Deutschland
CATEGORIES:Beziehungsgestaltung,Borderline und Co.,Familienleben,Kommunikation
ATTACH;FMTTYPE=image/jpeg:https://baerbeljung.de/wp-content/uploads/2025/01/GfK-WoGi___www.2moveon.euQuelle-845x321-1.jpg
ORGANIZER;CN="BTK e.V.":MAILTO:info@borderline-kassel.de
END:VEVENT
BEGIN:VEVENT
DTSTART;TZID=Europe/Berlin:20250215T103000
DTEND;TZID=Europe/Berlin:20250215T130000
DTSTAMP:20260420T160628
CREATED:20250127T152329Z
LAST-MODIFIED:20250127T160458Z
UID:2142-1739615400-1739624400@baerbeljung.de
SUMMARY:Borderline Trialog Kassel e.V.
DESCRIPTION:
URL:https://baerbeljung.de/event/borderline-trialog-kassel-e-v-5/
LOCATION:KISS Kassel\, Deutschland
CATEGORIES:Beziehungsgestaltung,Borderline und Co.,Familienleben,Kommunikation
ATTACH;FMTTYPE=image/jpeg:https://baerbeljung.de/wp-content/uploads/2025/01/2_Eier-002-scaled.jpeg
ORGANIZER;CN="BTK e.V.":MAILTO:info@borderline-kassel.de
END:VEVENT
BEGIN:VEVENT
DTSTART;TZID=Europe/Berlin:20250201T110000
DTEND;TZID=Europe/Berlin:20250201T130000
DTSTAMP:20260420T160628
CREATED:20250127T154344Z
LAST-MODIFIED:20250127T160403Z
UID:2154-1738407600-1738414800@baerbeljung.de
SUMMARY:"Wenn die Giraffe mit dem Wolf tanzt” - die Borderline-Angehörigen-Gruppe
DESCRIPTION:
URL:https://baerbeljung.de/event/wenn-die-giraffe-mit-dem-wolf-tanzt-die-borderline-angehoerigen-gruppe/
LOCATION:KISS Kassel\, Deutschland
CATEGORIES:Beziehungsgestaltung,Borderline und Co.,Familienleben,Kommunikation
ATTACH;FMTTYPE=image/jpeg:https://baerbeljung.de/wp-content/uploads/2025/01/GfK-WoGi___www.2moveon.euQuelle-845x321-1.jpg
ORGANIZER;CN="BTK e.V.":MAILTO:info@borderline-kassel.de
END:VEVENT
BEGIN:VEVENT
DTSTART;TZID=Europe/Berlin:20250118T103000
DTEND;TZID=Europe/Berlin:20250118T130000
DTSTAMP:20260420T160628
CREATED:20250127T150707Z
LAST-MODIFIED:20250127T150756Z
UID:2126-1737196200-1737205200@baerbeljung.de
SUMMARY:Borderline Trialog Kassel e.V.
DESCRIPTION:
URL:https://baerbeljung.de/event/borderline-trialog-kassel-e-v/
LOCATION:KISS Kassel\, Deutschland
CATEGORIES:Borderline und Co.
ATTACH;FMTTYPE=image/jpeg:https://baerbeljung.de/wp-content/uploads/2025/01/2_Eier-002-scaled.jpeg
END:VEVENT
BEGIN:VEVENT
DTSTART;TZID=Europe/Berlin:20240622T100000
DTEND;TZID=Europe/Berlin:20241123T150000
DTSTAMP:20260420T160628
CREATED:20240506T172511Z
LAST-MODIFIED:20240506T172511Z
UID:2095-1719050400-1732374000@baerbeljung.de
SUMMARY:Die “beste” Mutter sorgt zuerst für sich selbst  -- ein besonderes Angebot ...
DESCRIPTION:Die “beste” Mutter sorgt zuerst für sich selbst  — ein besonderes Angebot …\n… im DRK-Cambio Cultur in Witzenhausen\, Ermschwerder Str. 16.\n… ein Kurs à 5 Termine\, jeweils 10:00 – 15:00 Uhr.\n… 22. Juni\, 31. August\, 28. September\, 03. November & 23. November 2024.\nIn diesem Kurs für Mütter aller Generationen wollen wir die Rolle der Mutter im 21. Jahrhundert hinterfragen und stärken.\nDurch die eigene Auseinandersetzung mit Rollenbildern und Glaubenssätzen über das Mutterbild kann jede Teilnehmerin ihre persönliche Rolle neu definieren lernen.\nUnterstützung und Orientierung bietet uns die haltende Begleitung der Kursleitung sowie die Ausrichtung an der systemischen Familientherapie (Jesper Juul u.a.) und die Haltung der Gewaltfreien Kommunikation (Marshall B. Rosenberg). \nEs wird nicht beschult\, sondern gemeinsam entwickelt und gestaltet. \nKursleitung: Om Bärbel Jung.\nSie ist in der systemischen Familienberatung tätig\, Mediatorin\,\nTrainerin für Gewaltfreie Kommunikation und Autorin.\nUnd sie ist selbst Mutter und Großmutter. \n50\,00 € \, 16 Plätze vorhanden. \nLink zum Anmelden*  \nWeitere Informationen*\nhttps://www.drk-wiz.de/kurse/kurse-fuer-werdende-eltern/die-beste-mutter-sorgt-zuerst-fuer-sich-selbst.html \n* Durch Anklicken der Links werden Sie auf eine externe Internetseite weitergeleitet\, für deren Inhalte der jeweilige Seitenbetreiber verantwortlich ist. \nFlyer hier zum Download
URL:https://baerbeljung.de/event/die-beste-mutter-sorgt-zuerst-fuer-sich-selbst-ein-besonderes-angebot/
LOCATION:DRK „Cambio Cultur“\, Ermschwerder Str. 16\, Witzenhausen\, 37213\, Deutschland
ORGANIZER;CN="Familienzentrum Pusteblume DRK-Kreisverband Witzenhausen e.V.":MAILTO:praxis@baerbeljung.de
END:VEVENT
END:VCALENDAR